BEGIN:VCALENDAR
VERSION:2.0
PRODID:-//eventon.com NONSGML v1.0//EN
CALSCALE:GREGORIAN
METHOD:PUBLISH
BEGIN:VEVENT
UID:69ea6d64e18cf
DTSTAMP:20260423T190508Z
DTSTART:20160923T170000Z
DTEND:20160923T213000Z
LOCATION:Central Florida Orlando\,  FL
SUMMARY:Family Food Truck Night
DESCRIPTION:Enjoy delicious eats from food trucks like SMAC\,  SwedeDish\, 
  Cousins Maine Lobster\,  Bembom and more. All trucks are subject to change
  without notice. There is no cover charge for this event.\nhttps://www.cent
 ralfloridalifestyle.com/events/family-food-truck-night/
URL:https://www.centralfloridalifestyle.com/events/family-food-truck-night/
END:VEVENT
END:VCALENDAR