BEGIN:VCALENDAR
VERSION:2.0
PRODID:-//eventon.com NONSGML v1.0//EN
CALSCALE:GREGORIAN
METHOD:PUBLISH
BEGIN:VEVENT
UID:69e9f00a2f0ff
DTSTAMP:20260423T101018Z
DTSTART:20160915T170000Z
DTEND:20160915T200000Z
LOCATION:Park Avenue Park Avenue
SUMMARY:Sip\,  Shop & Stroll
DESCRIPTION:The Winter Park Chamber of Commerce and Park Avenue Merchants A
 ssociation invite you to spend the evening on a unique wine walk along Park
  Avenue. Discover new merchants\,  check out the latest fashions and season
 al menu items\,  and enjoy wine and hors d’oeuvres along the way. $25 per
  person\nhttps://www.centralfloridalifestyle.com/events/sip-shop-stroll-2/
URL:https://www.centralfloridalifestyle.com/events/sip-shop-stroll-2/
END:VEVENT
END:VCALENDAR