BEGIN:VCALENDAR
VERSION:2.0
PRODID:-//eventon.com NONSGML v1.0//EN
CALSCALE:GREGORIAN
METHOD:PUBLISH
BEGIN:VEVENT
UID:69e8d1f70995d
DTSTAMP:20260422T134943Z
DTSTART:20160903T110000Z
DTEND:20160903T010000Z
LOCATION:Enzian Theater 1300 Orlando Ave
SUMMARY:National Theatre Live: Hangmen
DESCRIPTION:This production is co-presented by Annie Russell Theatre and th
 e Dr. Phillips Center for the Performing Arts. This show was a sellout at L
 ondon’s Royal Court Theatre and was recorded live for cinemas by National
  Theatre Live. $20\,  $17.50 for Enzian members\nhttps://www.centralflorida
 lifestyle.com/events/national-theatre-live-hangmen-2/
URL:https://www.centralfloridalifestyle.com/events/national-theatre-live-hangmen-2/
END:VEVENT
END:VCALENDAR