BEGIN:VCALENDAR
VERSION:2.0
PRODID:-//eventon.com NONSGML v1.0//EN
CALSCALE:GREGORIAN
METHOD:PUBLISH
BEGIN:VEVENT
UID:69e8daceac9b4
DTSTAMP:20260422T142726Z
DTSTART:20160727T180000Z
DTEND:20160727T210000Z
LOCATION:Central Florida Orlando\,  FL
SUMMARY:Dining in the Dark
DESCRIPTION:Second Harvest Food Bank of Central Florida and Lighthouse Cent
 ral Florida are teaming up to bring a unique sensory experience to Orlando 
 at the 3rd annual Dining in the Dark event. Guests will enjoy cocktails\,  
 hors d’oeuvres\,  a three-course gourmet meal and live music in total dar
 kness. The event simulates[..]\nhttps://www.centralfloridalifestyle.com/eve
 nts/dining-in-the-dark/
URL:https://www.centralfloridalifestyle.com/events/dining-in-the-dark/
END:VEVENT
END:VCALENDAR