BEGIN:VCALENDAR
VERSION:2.0
PRODID:-//eventon.com NONSGML v1.0//EN
CALSCALE:GREGORIAN
METHOD:PUBLISH
BEGIN:VEVENT
UID:69eb9d81c8c22
DTSTAMP:20260424T164241Z
DTSTART:20250703T180000Z
DTEND:20250703T220000Z
LOCATION:Harbor Park at Lake Baldwin 4990 New Broad St.\,  Orlando\,  FL 32801
SUMMARY:Baldwin Park Independence Bash
DESCRIPTION:This is a community Independence Bash that will take place on T
 hursday\,  July 3\,  2024 from 6 to 10 p.m. Street closures will be on New 
 Broad Street between Meeting Place and Lake Baldwin Lane. This will be a st
 reet party in the heart of downtown Baldwin Park followed by[..]\nhttps://w
 ww.centralfloridalifestyle.com/events/baldwin-park-independence-bash/
URL:https://www.centralfloridalifestyle.com/events/baldwin-park-independence-bash/
END:VEVENT
END:VCALENDAR