BEGIN:VCALENDAR
VERSION:2.0
PRODID:-//eventon.com NONSGML v1.0//EN
CALSCALE:GREGORIAN
METHOD:PUBLISH
BEGIN:VEVENT
UID:69e8fc7f9133f
DTSTAMP:20260422T165111Z
DTSTART:20250530T110000Z
DTEND:20250531T000000Z
LOCATION:Central Florida Fairgrounds 4603 W Colonial Dr.
SUMMARY:Forbidden Kingdom Music Festival
DESCRIPTION:Thy Kingdom Awaits May 30 &#8211; 31\,  2025\,  at Forbidden Ki
 ngdom 2025 Brace yourselves\,  headbangers!Â Forbidden KingdomÂ returns toÂ
  Orlando Amphitheater at the Central Florida FairgroundsÂ onÂ March 30-31\,
   2025\,  bringing two electrifying days of bass-heavy beats\,  immersive s
 tages\,  and epic performances from the biggest names in dubstep and riddim
 ! Step into a world of[..]\nhttps://www.centralfloridalifestyle.com/events/
 forbidden-kingdom-music-festival/
URL:https://www.centralfloridalifestyle.com/events/forbidden-kingdom-music-festival/
END:VEVENT
END:VCALENDAR