BEGIN:VCALENDAR
VERSION:2.0
PRODID:-//eventon.com NONSGML v1.0//EN
CALSCALE:GREGORIAN
METHOD:PUBLISH
BEGIN:VEVENT
UID:69ea4be61a133
DTSTAMP:20260423T164214Z
DTSTART:20240605T200000Z
DTEND:20240605T230000Z
LOCATION:Dr. Phillips Center for the Performing Arts 445 S. Magnolia Ave.
SUMMARY:Clue
DESCRIPTION:Murder and blackmail are on the menu when six mysterious guests
  assemble at Boddy Manor for a night they’ll never forget! Was it Mrs. Pe
 acock in the study with the knife? Or was it Colonel Mustard in the library
  with the wrench? Based on the cult 1985 Paramount movie and[..]\nhttps://w
 ww.centralfloridalifestyle.com/events/clue/var/ri-1.l-L1
URL:https://www.centralfloridalifestyle.com/events/clue/var/ri-1.l-L1
END:VEVENT
END:VCALENDAR