BEGIN:VCALENDAR
VERSION:2.0
PRODID:-//eventon.com NONSGML v1.0//EN
CALSCALE:GREGORIAN
METHOD:PUBLISH
BEGIN:VEVENT
UID:69e9bf7dd9f1c
DTSTAMP:20260423T064309Z
DTSTART:20240330T190000Z
DTEND:20240330T220000Z
LOCATION:Osceola Heritage Park/Silver Spurs Arena 1875 Silver Spurs Lane\,  Kissimmee\,  FL 34744
SUMMARY:Osceola Magic vs Indiana Mad Ants - Fan Appreciation Night
DESCRIPTION:Don&#8217;t miss out on the excitement as the Osceola Magic fac
 e off against the Indiana Mad Ants in the last regular-season game! Be one 
 of the first 1\, 000 fans to enter the arena and you&#8217;ll score a Paolo
  Banchero bobblehead to commemorate the night. It&#8217;s a perfect additio
 n to any[..]\nhttps://www.centralfloridalifestyle.com/events/osceola-magic-
 vs-indiana-mad-ants-fan-appreciation-night/
URL:https://www.centralfloridalifestyle.com/events/osceola-magic-vs-indiana-mad-ants-fan-appreciation-night/
END:VEVENT
END:VCALENDAR