BEGIN:VCALENDAR
VERSION:2.0
PRODID:-//eventon.com NONSGML v1.0//EN
CALSCALE:GREGORIAN
METHOD:PUBLISH
BEGIN:VEVENT
UID:69ea92035a40a
DTSTAMP:20260423T214123Z
DTSTART:20240303T160000Z
DTEND:20240303T190000Z
LOCATION:Osceola Heritage Park/Silver Spurs Arena 1875 Silver Spurs Lane\,  Kissimmee\,  FL 34744
SUMMARY:Osceola Magic vs. Delaware Blue Coats
DESCRIPTION:It&#8217;s Teacher Appreciation Night as your Osceola Magic tak
 es on the Delaware Blue Coats! Buy tickets here!\nhttps://www.centralflorid
 alifestyle.com/events/osceola-magic-vs-delaware-blue-coats/
URL:https://www.centralfloridalifestyle.com/events/osceola-magic-vs-delaware-blue-coats/
END:VEVENT
END:VCALENDAR