BEGIN:VCALENDAR
VERSION:2.0
PRODID:-//eventon.com NONSGML v1.0//EN
CALSCALE:GREGORIAN
METHOD:PUBLISH
BEGIN:VEVENT
UID:69ea17e0b3201
DTSTAMP:20260423T130016Z
DTSTART:20231117T190000Z
DTEND:20231117T220000Z
LOCATION:Amway Center 400 W. Church Street
SUMMARY:Florida Blue Battle of the Bands
DESCRIPTION:Get ready for crowd-pleasing dance teams\,  high-stepping drum 
 majors\,  precision drumlines and roaring brass sections. Florida Blue Batt
 le of the Bands presented by Publix High School Participants Burke High Sch
 ool Dillard High School Evans High School Faith’s Place Center for Arts E
 ducation First Coast High School Heritage High School Mainland[..]\nhttps:/
 /www.centralfloridalifestyle.com/events/florida-blue-battle-of-the-bands/
URL:https://www.centralfloridalifestyle.com/events/florida-blue-battle-of-the-bands/
END:VEVENT
END:VCALENDAR