BEGIN:VCALENDAR
VERSION:2.0
PRODID:-//eventon.com NONSGML v1.0//EN
CALSCALE:GREGORIAN
METHOD:PUBLISH
BEGIN:VEVENT
UID:69ea16bb61ae2
DTSTAMP:20260423T125523Z
DTSTART:20231014T090000Z
DTEND:20231014T100000Z
LOCATION:Mead Botanical Garden 1300 S Denning Dr\,  Winter Park\,  FL 32789
SUMMARY:Yoga in the Garden
DESCRIPTION:Join us for yoga in the Garden in the midst of the beautiful Me
 ad Botanical Garden. Take part in the opportunity to truly connect with you
 rself and nature. Saturdays\,  9 – 10 AM &amp; Sundays 5 – 6 PM @ the G
 rove Stage Cost: $10 (Proceeds will benefit Mead Botanical[..]\nhttps://www
 .centralfloridalifestyle.com/events/yoga-in-the-garden/
URL:https://www.centralfloridalifestyle.com/events/yoga-in-the-garden/
END:VEVENT
END:VCALENDAR