BEGIN:VCALENDAR
VERSION:2.0
PRODID:-//eventon.com NONSGML v1.0//EN
CALSCALE:GREGORIAN
METHOD:PUBLISH
BEGIN:VEVENT
UID:69ed66d3da80b
DTSTAMP:20260426T011355Z
DTSTART:20230812T100000Z
DTEND:20230813T160000Z
LOCATION:Orange County Convention Center - West Concourse 9800 International Drive\,  Orlando\,  FL 32819
SUMMARY:Florida Kids and Family Expo
DESCRIPTION:Florida Kids and Family Expo 8th Annual Florida Kids and Family
  Expo Spend the day discovering over 200 exhibitors with schools products s
 ervices entertainment and more. While you’re busy discovering all that’
 s possible for your family your kids can interact with animals meet their f
 avorite characters ride a pony watch[..]\nhttps://www.centralfloridalifesty
 le.com/events/florida-kids-and-family-expo-3/
URL:https://www.centralfloridalifestyle.com/events/florida-kids-and-family-expo-3/
END:VEVENT
END:VCALENDAR