BEGIN:VCALENDAR
VERSION:2.0
PRODID:-//eventon.com NONSGML v1.0//EN
CALSCALE:GREGORIAN
METHOD:PUBLISH
BEGIN:VEVENT
UID:69ec2180d2b02
DTSTAMP:20260425T020552Z
DTSTART:20230727T170000Z
DTEND:20231113T210000Z
LOCATION:America Gardens Theatre 1510 Avenue of the Stars
SUMMARY:Eat To The Beat Concert Series
DESCRIPTION:Eat To The Beat Concert Series Eat To The Beat Concert Series D
 iscover a star-studded lineup with something for nearly every taste at EPC
 OT International Food &amp; Wine Festival! Event Details:  Date: July 27-N
 ovember 13 (EPCOT International Food &amp; Wine Festival) Time: 5-9pm Locat
 ion: 1510 Avenue of the Stars Visit link for[..]\nhttps://www.centralflori
 dalifestyle.com/events/eat-to-the-beat-concert-series/
URL:https://www.centralfloridalifestyle.com/events/eat-to-the-beat-concert-series/
END:VEVENT
END:VCALENDAR