BEGIN:VCALENDAR
VERSION:2.0
PRODID:-//eventon.com NONSGML v1.0//EN
CALSCALE:GREGORIAN
METHOD:PUBLISH
BEGIN:VEVENT
UID:69e92c0a3c797
DTSTAMP:20260422T201402Z
DTSTART:20230505T153000Z
DTEND:20230505T163000Z
LOCATION:Windermere Branch 530 Main St.\,  Windermere FL 34786
SUMMARY:English Conversation Hour
DESCRIPTION:English Conversation Hour on Friday\,  May 5\,  2023 at Orange 
 County Public Library-Windermere Branch Event Description: Come practice yo
 ur English speaking skills during the English Conversation Hour. All profic
 iency levels are welcomed! Come practice your English speaking skills durin
 g English Conversation Hour. All proficiency levels are welcomed! Venga a p
 racticar[..]\nhttps://www.centralfloridalifestyle.com/events/english-conver
 sation-hour/
URL:https://www.centralfloridalifestyle.com/events/english-conversation-hour/
END:VEVENT
END:VCALENDAR