BEGIN:VCALENDAR
VERSION:2.0
PRODID:-//eventon.com NONSGML v1.0//EN
CALSCALE:GREGORIAN
METHOD:PUBLISH
BEGIN:VEVENT
UID:69ed1d95c558a
DTSTAMP:20260425T200125Z
DTSTART:20230224T080000Z
DTEND:20230226T170000Z
LOCATION:Orange County Convention Center - West Concourse 9800 International Drive\,  Orlando\,  FL 32819
SUMMARY:Orlando Home and Garden Show
DESCRIPTION:The 14th Annual Orlando Home and Garden Show 2023 will take pla
 ce at the Orange County Convention Center-West Concourse\,  February 24\,  
 2023 to February 26\,  2023. Admission is FREE for the weekend long event. 
 &#8220;Everything you need to solve your home &amp; garden projects under o
 ne roof.&#8221; Orlando Home and[..]\nhttps://www.centralfloridalifestyle.c
 om/events/orlando-homegardenshow-2023/
URL:https://www.centralfloridalifestyle.com/events/orlando-homegardenshow-2023/
END:VEVENT
END:VCALENDAR