BEGIN:VCALENDAR
VERSION:2.0
PRODID:-//eventon.com NONSGML v1.0//EN
CALSCALE:GREGORIAN
METHOD:PUBLISH
BEGIN:VEVENT
UID:69ed0ce8a1044
DTSTAMP:20260425T185016Z
DTSTART:20210605T113000Z
DTEND:20210605T153000Z
LOCATION:Promenade at Sunset Walk 3251 Margaritaville Blvd
SUMMARY:The Market at Promenade at Sunset Walk
DESCRIPTION:Our Artisan and Farmer’s Market features the best local Craft
  and Specialty Vendors from across Central Florida\,  including your weekly
  Produce needs. All this and more while you stroll the streets of The Prome
 nade at Sunset Walk.\nhttps://www.centralfloridalifestyle.com/events/the-ma
 rket-at-promenade-at-sunset-walk/
URL:https://www.centralfloridalifestyle.com/events/the-market-at-promenade-at-sunset-walk/
END:VEVENT
END:VCALENDAR