BEGIN:VCALENDAR
VERSION:2.0
PRODID:-//eventon.com NONSGML v1.0//EN
CALSCALE:GREGORIAN
METHOD:PUBLISH
BEGIN:VEVENT
UID:69e9d31f55f06
DTSTAMP:20260423T080655Z
DTSTART:20181201T090000Z
DTEND:20181222T140000Z
LOCATION:Downtown Pavilion 104 Lakeview Ave. Winter Garden\,  FL 34787
SUMMARY:A Very Merry Farmers Market
DESCRIPTION:Chat with Santa and get your Christmas shopping on with seasona
 l food and gifts all while enjoying holiday music. This event runs on Dec.Â
  1\,  8\,  15 and 22.\nhttps://www.centralfloridalifestyle.com/events/a-ver
 y-merry-farmers-market/
URL:https://www.centralfloridalifestyle.com/events/a-very-merry-farmers-market/
END:VEVENT
END:VCALENDAR