BEGIN:VCALENDAR
VERSION:2.0
PRODID:-//eventon.com NONSGML v1.0//EN
CALSCALE:GREGORIAN
METHOD:PUBLISH
BEGIN:VEVENT
UID:69ec9c6acda04
DTSTAMP:20260425T105018Z
DTSTART:20181129T180000Z
DTEND:20181129T200000Z
LOCATION:Orange County Library - Winter Garden branch 805 E. Plant St.\,  Winter Garden FL 34787
SUMMARY:Winter Garden Book Club
DESCRIPTION:Join the discussion of  November’s book selection\,  &#8220;
 Housebroken: Admissions of an Untidy Life&#8221; by Laurie Notaro.\nhttps:/
 /www.centralfloridalifestyle.com/events/winter-garden-book-club-2/
URL:https://www.centralfloridalifestyle.com/events/winter-garden-book-club-2/
END:VEVENT
END:VCALENDAR