BEGIN:VCALENDAR
VERSION:2.0
PRODID:-//eventon.com NONSGML v1.0//EN
CALSCALE:GREGORIAN
METHOD:PUBLISH
BEGIN:VEVENT
UID:69e9d7759aaca
DTSTAMP:20260423T082525Z
DTSTART:20181104T110000Z
DTEND:20181104T170000Z
LOCATION:Kissimmee Lakefront Park 201 Lakeview Drive
SUMMARY:Orlando Japan Festival
DESCRIPTION:The Japan Association of Orlando will hold its 18th annual Orla
 ndo Japan Festival on Sunday\,  Nov. 4\,  from 11 p.m. to 5 p.m. at Kissim
 mee Lakefront Park. This free\,  family-friendly event will include cultura
 l performances including Judo\,  Iai (martial arts using swords)\,  Koto (
 Japanese harp)\,  Musha (samurai warrior)\,  Nihon Buyo (traditional dance)
 [..]\nhttps://www.centralfloridalifestyle.com/events/orlando-japan-festival
 /
URL:https://www.centralfloridalifestyle.com/events/orlando-japan-festival/
END:VEVENT
END:VCALENDAR