BEGIN:VCALENDAR
VERSION:2.0
PRODID:-//eventon.com NONSGML v1.0//EN
CALSCALE:GREGORIAN
METHOD:PUBLISH
BEGIN:VEVENT
UID:69ed037f09a1d
DTSTAMP:20260425T181007Z
DTSTART:20181008T180000Z
DTEND:20181008T200000Z
LOCATION:Orange County Library - 7255 Della Dr\,  Orlando\,  FL 32819
SUMMARY:From Pages to Plate: "The Color Purple"
DESCRIPTION:&#8220;Celie’s breakfast was all but gravy for Shug Avery who
  was used to upper-crust living\, ” Alice Walker wrote in her Pulitzer Pr
 ize-winning novel. Chef Farah Davids will show you how to prepare an old-f
 ashioned breakfast of ham\,  eggs\,  grits and gravy fresh from the pages o
 f Alice Walker’s The Color Purple.[..]\nhttps://www.centralfloridalifesty
 le.com/events/from-pages-to-plate-the-color-purple/
URL:https://www.centralfloridalifestyle.com/events/from-pages-to-plate-the-color-purple/
END:VEVENT
END:VCALENDAR