BEGIN:VCALENDAR
VERSION:2.0
PRODID:-//eventon.com NONSGML v1.0//EN
CALSCALE:GREGORIAN
METHOD:PUBLISH
BEGIN:VEVENT
UID:69ea4f35df08c
DTSTAMP:20260423T165621Z
DTSTART:20180614T100000Z
DTEND:20180715T210000Z
LOCATION:The Florida Mall 8001 S. Orange Blossom Trail\,  Orlando\,  FL 32809
SUMMARY:The Florida Mall World Cup Watch Party
DESCRIPTION:The Florida Mall is offering a vibrant and contemporary area fo
 r soccer fans to catch a glimpse of the 32 games featuring top-ranked compe
 titors Argentina\,  Brazil\,  and Germany. While teams from all over the wo
 rld compete for the coveted cup in Russia\,  Orlando residents and visitors
  can cheer on their[..]\nhttps://www.centralfloridalifestyle.com/events/the
 -florida-mall-world-cup-watch-party/
URL:https://www.centralfloridalifestyle.com/events/the-florida-mall-world-cup-watch-party/
END:VEVENT
END:VCALENDAR