BEGIN:VCALENDAR
VERSION:2.0
PRODID:-//eventon.com NONSGML v1.0//EN
CALSCALE:GREGORIAN
METHOD:PUBLISH
BEGIN:VEVENT
UID:69ea4be5a2e09
DTSTAMP:20260423T164213Z
DTSTART:20180320T140000Z
DTEND:20180320T150000Z
LOCATION:West Oaks Branch library 1821 E. Silver Star Rd.\,  Ocoee FL 34761
SUMMARY:Navigating your Senior Years
DESCRIPTION:Elder Law Attorney Geoff Hoatson teaches you how to make your g
 olden years a smooth cruise! Set a course for preservation. You’ll learn 
 how to protect yourself and everything you hold dear from guardianship\,  p
 robate and long-term care facilities. To learn more about Geoff and the Fam
 ily First Firm\,  visit[..]\nhttps://www.centralfloridalifestyle.com/events
 /navigating-senior-years/
URL:https://www.centralfloridalifestyle.com/events/navigating-senior-years/
END:VEVENT
END:VCALENDAR