BEGIN:VCALENDAR
VERSION:2.0
PRODID:-//eventon.com NONSGML v1.0//EN
CALSCALE:GREGORIAN
METHOD:PUBLISH
BEGIN:VEVENT
UID:69eb3eff83b70
DTSTAMP:20260424T095927Z
DTSTART:20180303T103000Z
DTEND:20180303T120000Z
LOCATION:Chickasaw Branch Library 870 N Chickasaw Trail\,  Orlando\,  FL 32825
SUMMARY:Chickasaw Branch - Citizenship Inspired
DESCRIPTION:Students meet every Saturday from March 3- 24 to prepare for th
 e U.S. Naturalization (Citizenship) Test and Interview. To be eligible for 
 U.S. Naturalization\,  you must be able to read\,  write and speak basic En
 glish. This series is for adult learners and is free to Orange County distr
 ict resident cardholders\, [..]\nhttps://www.centralfloridalifestyle.com/ev
 ents/chickasaw-branch-citizenship-inspired/
URL:https://www.centralfloridalifestyle.com/events/chickasaw-branch-citizenship-inspired/
END:VEVENT
END:VCALENDAR