BEGIN:VCALENDAR
VERSION:2.0
PRODID:-//eventon.com NONSGML v1.0//EN
CALSCALE:GREGORIAN
METHOD:PUBLISH
BEGIN:VEVENT
UID:69ea297d75ce5
DTSTAMP:20260423T141525Z
DTSTART:20180311T090000Z
DTEND:20180311T110000Z
LOCATION:The Florida Mall 8001 S. Orange Blossom Trail\,  Orlando\,  FL 32809
SUMMARY:The Florida Mall's Caring Bunny
DESCRIPTION:This event will offer families that have children with special 
 needs a subdued environment to participate in the Bunny Photo Experience. P
 romotional assistance for Caring Bunny has been provided by Autism Speaks. 
 Easter Bunny pictures for purchase.\nhttps://www.centralfloridalifestyle.co
 m/events/florida-malls-caring-bunny/
URL:https://www.centralfloridalifestyle.com/events/florida-malls-caring-bunny/
END:VEVENT
END:VCALENDAR