BEGIN:VCALENDAR
VERSION:2.0
PRODID:-//eventon.com NONSGML v1.0//EN
CALSCALE:GREGORIAN
METHOD:PUBLISH
BEGIN:VEVENT
UID:69ea33bd939ee
DTSTAMP:20260423T145909Z
DTSTART:20171030T183000Z
DTEND:20171030T200000Z
LOCATION:North Orange Branch 1211 E. Semoran Blvd.
SUMMARY:Introduction to the Paranormal
DESCRIPTION:Join the TnT Paranormal team as they discuss the methods used t
 o investigate evidence of alleged cases of paranormal or unexplained activi
 ty. They will discuss methods for gathering data during an investigation an
 d how the data is reviewed to determine if any paranormal evidence was capt
 ured\,  or if these experiences[..]\nhttps://www.centralfloridalifestyle.co
 m/events/introduction-to-the-paranormal-2/
URL:https://www.centralfloridalifestyle.com/events/introduction-to-the-paranormal-2/
END:VEVENT
END:VCALENDAR