BEGIN:VCALENDAR
VERSION:2.0
PRODID:-//eventon.com NONSGML v1.0//EN
CALSCALE:GREGORIAN
METHOD:PUBLISH
BEGIN:VEVENT
UID:69eb7c337fcf5
DTSTAMP:20260424T142035Z
DTSTART:20171010T103000Z
DTEND:20171010T123000Z
LOCATION:Winter Garden Branch 805 E. Plant St.
SUMMARY:Boom\,  Zoom\,  Blastoff!
DESCRIPTION:Discover with us on a journey to outer space! Dress for a mess 
 to explore the amazing world of stars and more. Ages 2–4.\nhttps://www.ce
 ntralfloridalifestyle.com/events/boom-zoom-blastoff-2/
URL:https://www.centralfloridalifestyle.com/events/boom-zoom-blastoff-2/
END:VEVENT
END:VCALENDAR