BEGIN:VCALENDAR
VERSION:2.0
PRODID:-//eventon.com NONSGML v1.0//EN
CALSCALE:GREGORIAN
METHOD:PUBLISH
BEGIN:VEVENT
UID:69eb02f8d15d3
DTSTAMP:20260424T054320Z
DTSTART:20171024T140000Z
DTEND:20171024T160000Z
LOCATION:West Oaks Branch 1821 E. Silver Star Road
SUMMARY:Storytime for Grownups!
DESCRIPTION:Why should kids have all the fun? Come to the library and enjoy
  a story or activity as our talented library storytellers entertain ages 18
  and up! Each branch will present a unique storytime. Be sure to check out 
 your local branch for individual event details.\nhttps://www.centralflorida
 lifestyle.com/events/storytime-for-grownups-2/
URL:https://www.centralfloridalifestyle.com/events/storytime-for-grownups-2/
END:VEVENT
END:VCALENDAR