BEGIN:VCALENDAR
VERSION:2.0
PRODID:-//eventon.com NONSGML v1.0//EN
CALSCALE:GREGORIAN
METHOD:PUBLISH
BEGIN:VEVENT
UID:69ea249946042
DTSTAMP:20260423T135433Z
DTSTART:20171014T090000Z
DTEND:20171014T170000Z
LOCATION:Central Park in Downtown Winter Park 251 S. Park Ave.\,  Winter Park\,  FL 32789
SUMMARY:Winter Park Autumn Art Festival
DESCRIPTION:The Winter Park Chamber of Commerce is hosting the only juried 
 fine art festival exclusively for Florida artists. The whole family will en
 joy quality visual art and live entertainment along historic Park Avenue. F
 ree admission.\nhttps://www.centralfloridalifestyle.com/events/winter-park-
 autumn-art-festival-2/
URL:https://www.centralfloridalifestyle.com/events/winter-park-autumn-art-festival-2/
END:VEVENT
END:VCALENDAR