BEGIN:VCALENDAR
VERSION:2.0
PRODID:-//eventon.com NONSGML v1.0//EN
CALSCALE:GREGORIAN
METHOD:PUBLISH
BEGIN:VEVENT
UID:69eb5622585b1
DTSTAMP:20260424T113810Z
DTSTART:20170506T190000Z
DTEND:20170506T235900Z
LOCATION:Gilt Nightclub 740 Bennett Road\,  Orlando\,  FL 32803
SUMMARY:Rock Hard Revue - The Magic Mike Experience
DESCRIPTION:Featured in “America’s Got Talent” Season 9\,  Rock Hard 
 Revue is impressing audiences with its 90-minute fully costumed and choreog
 raphed Vegas-style production featuring sexy male performers\,  live vocals
  and audience participation that brings the show to life. Rock Hard Revue i
 s directed and choreographed by David Greenhouse\,  former director and[..]
 \nhttps://www.centralfloridalifestyle.com/events/rock-hard-revue-magic-mike
 -experience/
URL:https://www.centralfloridalifestyle.com/events/rock-hard-revue-magic-mike-experience/
END:VEVENT
END:VCALENDAR