BEGIN:VCALENDAR
VERSION:2.0
PRODID:-//eventon.com NONSGML v1.0//EN
CALSCALE:GREGORIAN
METHOD:PUBLISH
BEGIN:VEVENT
UID:69e910f3e32c7
DTSTAMP:20260422T181827Z
DTSTART:20161217T140000Z
DTEND:20161217T010000Z
LOCATION:Central Florida Orlando\,  FL
SUMMARY:Makeshift
DESCRIPTION:Enjoy a live performance by the all-male a cappella group Makes
 hift. Their smooth vocal harmonies will delight audiences with barbershop\,
   doo wop\,  gospel and pop standards.\nhttps://www.centralfloridalifestyle
 .com/events/makeshift/
URL:https://www.centralfloridalifestyle.com/events/makeshift/
END:VEVENT
END:VCALENDAR