BEGIN:VCALENDAR
VERSION:2.0
PRODID:-//eventon.com NONSGML v1.0//EN
CALSCALE:GREGORIAN
METHOD:PUBLISH
BEGIN:VEVENT
UID:69eb2440d8b0d
DTSTAMP:20260424T080520Z
DTSTART:20161205T183000Z
DTEND:20161205T010000Z
LOCATION:Orange County Library - Southeast Branch 5575 S. Semoran Blvd.\,  Orlando FL 32822
SUMMARY:Healthy Holiday Meals
DESCRIPTION:Discover healthy holiday recipes that everyone will enjoy this 
 season. Yamira Lee Johnson\,  head chef and founder of Breaking Bread with 
 Mira\,  will demonstrate how to create healthy holiday dishes. For more inf
 ormation about Breaking Bread with Mira\,  please visit bbwmira.com. Regist
 ration is required for Cuisine Corner. Space is limited.\nhttps://www.centr
 alfloridalifestyle.com/events/healthy-holiday-meals/
URL:https://www.centralfloridalifestyle.com/events/healthy-holiday-meals/
END:VEVENT
END:VCALENDAR