BEGIN:VCALENDAR
VERSION:2.0
PRODID:-//eventon.com NONSGML v1.0//EN
CALSCALE:GREGORIAN
METHOD:PUBLISH
BEGIN:VEVENT
UID:69eab99fe2d45
DTSTAMP:20260424T003023Z
DTSTART:20170201T193000Z
DTEND:20170201T010000Z
LOCATION:Dr. Phillip Center’s Walt Disney Theater 445 S. Magnolia Ave\,  Orlando\,  FL 32801
SUMMARY:Spend the Night with Billy Crystal
DESCRIPTION:Tony and Emmy Award-winning comedian\,  actor\,  producer\,  wr
 iter and director Billy Crystal announces his upcoming 30+ U.S. city tour\,
   Spend the Night with Billy Crystal. Coming off the heels of his recently 
 critically-acclaimed Australian tour\,  Crystal promises a hilarious and in
 timate evening Orlando&#8217;s engagement. Tickets start at $69\nhttps://ww
 w.centralfloridalifestyle.com/events/spend-night-billy-crystal/
URL:https://www.centralfloridalifestyle.com/events/spend-night-billy-crystal/
END:VEVENT
END:VCALENDAR