BEGIN:VCALENDAR
VERSION:2.0
PRODID:-//eventon.com NONSGML v1.0//EN
CALSCALE:GREGORIAN
METHOD:PUBLISH
BEGIN:VEVENT
UID:69e8f9957f84d
DTSTAMP:20260422T163845Z
DTSTART:20161201T113000Z
DTEND:20161201T133000Z
LOCATION:Dewey&#039;s Indoor Golf and Sports Grill 7720 Turkey Lake Rd\,  Orlando\,  FL 32819
SUMMARY:Lead and Feed Networking Lunch
DESCRIPTION:Advance Payment: $15.00 Pay at the Door: $25.00 Non-Member Rate
 : $25.00 Price includes lunch\,  drink\,  dessert\,  tax and tip.\nhttps://
 www.centralfloridalifestyle.com/events/lead-feed-networking-lunch/
URL:https://www.centralfloridalifestyle.com/events/lead-feed-networking-lunch/
END:VEVENT
END:VCALENDAR