BEGIN:VCALENDAR
VERSION:2.0
PRODID:-//eventon.com NONSGML v1.0//EN
CALSCALE:GREGORIAN
METHOD:PUBLISH
BEGIN:VEVENT
UID:69ebaf48bc67d
DTSTAMP:20260424T175832Z
DTSTART:20161119
DTEND:20161120
LOCATION:Cranes Roost Park 274 Cranes Roost Blvd\,  Altamonte Springs\,  FL 32701
SUMMARY:Rotary Art\,  Craft & Wine Festival
DESCRIPTION:Browse original and unique items created by artists and crafter
 s while participating in the “Wine Stroll\, ” a wine sampling experienc
 e. Stroll tickets can be purchased in advance or at the festival. Proceeds 
 benefit Seminole County South Rotary Club charities. Saturday: 11 a.m. &#82
 11; 8 p.m. Sunday: 10 a.m. &#8211; 5[..]\nhttps://www.centralfloridalifesty
 le.com/events/rotary-art-craft-wine-festival/
URL:https://www.centralfloridalifestyle.com/events/rotary-art-craft-wine-festival/
END:VEVENT
END:VCALENDAR