BEGIN:VCALENDAR
VERSION:2.0
PRODID:-//eventon.com NONSGML v1.0//EN
CALSCALE:GREGORIAN
METHOD:PUBLISH
BEGIN:VEVENT
UID:69e8fbfdbd91b
DTSTAMP:20260422T164901Z
DTSTART:20161119
DTEND:20161120
LOCATION:Central Florida Orlando\,  FL
SUMMARY:Arcadian Broad’s “Beauty & the Beast”
DESCRIPTION:Presented by Orlando Ballet\,  Arcadian Broad’s “Beauty &#0
 38; the Beast” is an imaginative interpretation of this time-honored tale
  of inner beauty. $28\,  $24 students and seniors 2 p.m. each day\nhttps://
 www.centralfloridalifestyle.com/events/arcadian-broads-beauty-beast/
URL:https://www.centralfloridalifestyle.com/events/arcadian-broads-beauty-beast/
END:VEVENT
END:VCALENDAR