BEGIN:VCALENDAR
VERSION:2.0
PRODID:-//eventon.com NONSGML v1.0//EN
CALSCALE:GREGORIAN
METHOD:PUBLISH
BEGIN:VEVENT
UID:69ebaf1ec940f
DTSTAMP:20260424T175750Z
DTSTART:20161129
DTEND:20161130
LOCATION:Central Florida Orlando\,  FL
SUMMARY:Sesame Street Live: “Elmo Makes Music”
DESCRIPTION:$20-$30 There are two showings: one at 10:30 a.m. and one at 6:
 30 p.m.\nhttps://www.centralfloridalifestyle.com/events/sesame-street-live-
 elmo-makes-music/
URL:https://www.centralfloridalifestyle.com/events/sesame-street-live-elmo-makes-music/
END:VEVENT
END:VCALENDAR